BEGIN:VCALENDAR
VERSION:2.0
PRODID:-//Helping Our Women - ECPv6.15.16//NONSGML v1.0//EN
CALSCALE:GREGORIAN
METHOD:PUBLISH
X-WR-CALNAME:Helping Our Women
X-ORIGINAL-URL:https://helpingourwomen.org
X-WR-CALDESC:Events for Helping Our Women
REFRESH-INTERVAL;VALUE=DURATION:PT1H
X-Robots-Tag:noindex
X-PUBLISHED-TTL:PT1H
BEGIN:VTIMEZONE
TZID:America/New_York
BEGIN:DAYLIGHT
TZOFFSETFROM:-0500
TZOFFSETTO:-0400
TZNAME:EDT
DTSTART:20230312T070000
END:DAYLIGHT
BEGIN:STANDARD
TZOFFSETFROM:-0400
TZOFFSETTO:-0500
TZNAME:EST
DTSTART:20231105T060000
END:STANDARD
BEGIN:DAYLIGHT
TZOFFSETFROM:-0500
TZOFFSETTO:-0400
TZNAME:EDT
DTSTART:20240310T070000
END:DAYLIGHT
BEGIN:STANDARD
TZOFFSETFROM:-0400
TZOFFSETTO:-0500
TZNAME:EST
DTSTART:20241103T060000
END:STANDARD
BEGIN:DAYLIGHT
TZOFFSETFROM:-0500
TZOFFSETTO:-0400
TZNAME:EDT
DTSTART:20250309T070000
END:DAYLIGHT
BEGIN:STANDARD
TZOFFSETFROM:-0400
TZOFFSETTO:-0500
TZNAME:EST
DTSTART:20251102T060000
END:STANDARD
END:VTIMEZONE
BEGIN:VEVENT
DTSTART;TZID=America/New_York:20241107T120000
DTEND;TZID=America/New_York:20241107T140000
DTSTAMP:20260419T085104
CREATED:20240903T152456Z
LAST-MODIFIED:20240903T152530Z
UID:10000502-1730980800-1730988000@helpingourwomen.org
SUMMARY:Peer Wellness Workshop: Balancing Change & Transitions
DESCRIPTION:Managing transitions is part of life. Aging or navigating a medical diagnosis are normal transition times that can be challenging. During this program\, you will gain the tools required to help you manage the transition in your life. \nFor more information or to register\, email cathy@helpingourwomen.org or call 508-487-4357! \nTransportation available for HOW clients.
URL:https://helpingourwomen.org/event/peer-wellness-workshop-balancing-change-transitions/
LOCATION:Ann Maguire Women’s Wellness Center\, 3 Main Street\, Eastham\, MA
ATTACH;FMTTYPE=image/png:https://helpingourwomen.org/wp-content/uploads/2024/09/Change-Transitions-PWC-Workshop-Social-Media-Post.png
END:VEVENT
BEGIN:VEVENT
DTSTART;TZID=America/New_York:20241107T173000
DTEND;TZID=America/New_York:20241107T190000
DTSTAMP:20260419T085104
CREATED:20240903T155911Z
LAST-MODIFIED:20250602T131705Z
UID:10000504-1731000600-1731006000@helpingourwomen.org
SUMMARY:Autumn Celebration & Annual Meeting
DESCRIPTION:Gather with us for an evening to acknowledge all that has been planted\, grown\, and harvested together as a community for the women of the Outer Cape in 2024 and beyond!  \n We will celebrate community with the presentation of the HOW Betty Villari Community Service Award and the HOW Volunteer of the Year Award. Enjoy light refreshments and social time before the busy holidays and help HOW celebrate our monumental year. \nTransportation will be offered for anyone interested in attending on a first come first serve basis from Provincetown to Eastham.
URL:https://helpingourwomen.org/event/autumn-celebration-annual-meeting/
LOCATION:Ann Maguire Women’s Wellness Center\, 3 Main Street\, Eastham\, MA
ATTACH;FMTTYPE=image/png:https://helpingourwomen.org/wp-content/uploads/2024/09/Autumn-Celebration.png
END:VEVENT
END:VCALENDAR