BEGIN:VCALENDAR
VERSION:2.0
PRODID:-//Helping Our Women - ECPv6.15.16//NONSGML v1.0//EN
CALSCALE:GREGORIAN
METHOD:PUBLISH
X-ORIGINAL-URL:https://helpingourwomen.org
X-WR-CALDESC:Events for Helping Our Women
REFRESH-INTERVAL;VALUE=DURATION:PT1H
X-Robots-Tag:noindex
X-PUBLISHED-TTL:PT1H
BEGIN:VTIMEZONE
TZID:America/New_York
BEGIN:DAYLIGHT
TZOFFSETFROM:-0500
TZOFFSETTO:-0400
TZNAME:EDT
DTSTART:20240310T070000
END:DAYLIGHT
BEGIN:STANDARD
TZOFFSETFROM:-0400
TZOFFSETTO:-0500
TZNAME:EST
DTSTART:20241103T060000
END:STANDARD
BEGIN:DAYLIGHT
TZOFFSETFROM:-0500
TZOFFSETTO:-0400
TZNAME:EDT
DTSTART:20250309T070000
END:DAYLIGHT
BEGIN:STANDARD
TZOFFSETFROM:-0400
TZOFFSETTO:-0500
TZNAME:EST
DTSTART:20251102T060000
END:STANDARD
BEGIN:DAYLIGHT
TZOFFSETFROM:-0500
TZOFFSETTO:-0400
TZNAME:EDT
DTSTART:20260308T070000
END:DAYLIGHT
BEGIN:STANDARD
TZOFFSETFROM:-0400
TZOFFSETTO:-0500
TZNAME:EST
DTSTART:20261101T060000
END:STANDARD
END:VTIMEZONE
BEGIN:VEVENT
DTSTART;TZID=America/New_York:20250102T103000
DTEND;TZID=America/New_York:20250102T113000
DTSTAMP:20260423T072642
CREATED:20241226T145652Z
LAST-MODIFIED:20250319T201823Z
UID:10001770-1735813800-1735817400@helpingourwomen.org
SUMMARY:Eastham Walking Group
DESCRIPTION:Join Leslie or Pam for a 45 minute walk from the Center and enjoy a cup of tea together afterward.  \nBring a friend and commit together to this weekly time to destress\, get some fresh air\, and join in lively conversation! \nEmail monica@helpingourwomen.org if you plan to join us or simply join us!
URL:https://helpingourwomen.org/event/eastham-walking-group-2/2025-01-02/
LOCATION:Ann Maguire Women’s Wellness Center\, 3 Main Street\, Eastham\, MA
ATTACH;FMTTYPE=image/png:https://helpingourwomen.org/wp-content/uploads/2024/12/Walking-Group-Icons.png
END:VEVENT
BEGIN:VEVENT
DTSTART;TZID=America/New_York:20250102T140000
DTEND;TZID=America/New_York:20250102T151500
DTSTAMP:20260423T072642
CREATED:20241202T162600Z
LAST-MODIFIED:20241202T214557Z
UID:10001098-1735826400-1735830900@helpingourwomen.org
SUMMARY:Grieving & Growing Group
DESCRIPTION:This group is for anyone who has experienced the death of a loved one. Grieving affects us physically\, emotionally\, and spiritually. It takes courage to grieve and it can be very lonely. Together in a supportive group we can help each other process our grief\, so that we grow. \nGroup sessions will include quiet reflection\, writing\, sharing\, poetry\, and meditation. facilitated by Betsy Simmons\, a health educator\, grief counselor\, and Eastham resident. \nThis will be an ongoing group that will meet from November to January. There is no session on November 28th & December 26th.  \nRegistration is not required but preferred. \nFor more information or to register\, email pam@helpingourwomen.org or call 508-487-4357! \nTransportation available for HOW clients.
URL:https://helpingourwomen.org/event/grieving-growing-group/2025-01-02/
LOCATION:Ann Maguire Women’s Wellness Center\, 3 Main Street\, Eastham\, MA
ATTACH;FMTTYPE=image/png:https://helpingourwomen.org/wp-content/uploads/2024/12/Grieving-Growing-Winter-20242025-.png
END:VEVENT
END:VCALENDAR