BEGIN:VCALENDAR
VERSION:2.0
PRODID:-//Helping Our Women - ECPv6.15.16//NONSGML v1.0//EN
CALSCALE:GREGORIAN
METHOD:PUBLISH
X-WR-CALNAME:Helping Our Women
X-ORIGINAL-URL:https://helpingourwomen.org
X-WR-CALDESC:Events for Helping Our Women
REFRESH-INTERVAL;VALUE=DURATION:PT1H
X-Robots-Tag:noindex
X-PUBLISHED-TTL:PT1H
BEGIN:VTIMEZONE
TZID:America/New_York
BEGIN:DAYLIGHT
TZOFFSETFROM:-0500
TZOFFSETTO:-0400
TZNAME:EDT
DTSTART:20240310T070000
END:DAYLIGHT
BEGIN:STANDARD
TZOFFSETFROM:-0400
TZOFFSETTO:-0500
TZNAME:EST
DTSTART:20241103T060000
END:STANDARD
BEGIN:DAYLIGHT
TZOFFSETFROM:-0500
TZOFFSETTO:-0400
TZNAME:EDT
DTSTART:20250309T070000
END:DAYLIGHT
BEGIN:STANDARD
TZOFFSETFROM:-0400
TZOFFSETTO:-0500
TZNAME:EST
DTSTART:20251102T060000
END:STANDARD
BEGIN:DAYLIGHT
TZOFFSETFROM:-0500
TZOFFSETTO:-0400
TZNAME:EDT
DTSTART:20260308T070000
END:DAYLIGHT
BEGIN:STANDARD
TZOFFSETFROM:-0400
TZOFFSETTO:-0500
TZNAME:EST
DTSTART:20261101T060000
END:STANDARD
END:VTIMEZONE
BEGIN:VEVENT
DTSTART;TZID=America/New_York:20250115T130000
DTEND;TZID=America/New_York:20250115T143000
DTSTAMP:20260423T090831
CREATED:20250106T194022Z
LAST-MODIFIED:20250319T201731Z
UID:10001822-1736946000-1736951400@helpingourwomen.org
SUMMARY:HOW Community Hours in Eastham
DESCRIPTION:Rest\, relax\, and chat over snacks and beverages while watching or participating in the activity of the month\, such as art\, puzzles\, games\, and more! \nFor more information\, email Pam at pam@helpingourwomen.org!
URL:https://helpingourwomen.org/event/how-community-hours-in-eastham/2025-01-15/
LOCATION:Ann Maguire Women’s Wellness Center\, 3 Main Street\, Eastham\, MA
ATTACH;FMTTYPE=image/png:https://helpingourwomen.org/wp-content/uploads/2025/01/Community-hours.png
END:VEVENT
END:VCALENDAR