BEGIN:VCALENDAR
VERSION:2.0
PRODID:-//Helping Our Women - ECPv6.15.16//NONSGML v1.0//EN
CALSCALE:GREGORIAN
METHOD:PUBLISH
X-ORIGINAL-URL:https://helpingourwomen.org
X-WR-CALDESC:Events for Helping Our Women
REFRESH-INTERVAL;VALUE=DURATION:PT1H
X-Robots-Tag:noindex
X-PUBLISHED-TTL:PT1H
BEGIN:VTIMEZONE
TZID:America/New_York
BEGIN:DAYLIGHT
TZOFFSETFROM:-0500
TZOFFSETTO:-0400
TZNAME:EDT
DTSTART:20240310T070000
END:DAYLIGHT
BEGIN:STANDARD
TZOFFSETFROM:-0400
TZOFFSETTO:-0500
TZNAME:EST
DTSTART:20241103T060000
END:STANDARD
BEGIN:DAYLIGHT
TZOFFSETFROM:-0500
TZOFFSETTO:-0400
TZNAME:EDT
DTSTART:20250309T070000
END:DAYLIGHT
BEGIN:STANDARD
TZOFFSETFROM:-0400
TZOFFSETTO:-0500
TZNAME:EST
DTSTART:20251102T060000
END:STANDARD
BEGIN:DAYLIGHT
TZOFFSETFROM:-0500
TZOFFSETTO:-0400
TZNAME:EDT
DTSTART:20260308T070000
END:DAYLIGHT
BEGIN:STANDARD
TZOFFSETFROM:-0400
TZOFFSETTO:-0500
TZNAME:EST
DTSTART:20261101T060000
END:STANDARD
END:VTIMEZONE
BEGIN:VEVENT
DTSTART;TZID=America/New_York:20250116T103000
DTEND;TZID=America/New_York:20250116T113000
DTSTAMP:20260425T090209
CREATED:20241226T145652Z
LAST-MODIFIED:20250319T201823Z
UID:10001772-1737023400-1737027000@helpingourwomen.org
SUMMARY:Eastham Walking Group
DESCRIPTION:Join Leslie or Pam for a 45 minute walk from the Center and enjoy a cup of tea together afterward.  \nBring a friend and commit together to this weekly time to destress\, get some fresh air\, and join in lively conversation! \nEmail monica@helpingourwomen.org if you plan to join us or simply join us!
URL:https://helpingourwomen.org/event/eastham-walking-group-2/2025-01-16/
LOCATION:Ann Maguire Women’s Wellness Center\, 3 Main Street\, Eastham\, MA
ATTACH;FMTTYPE=image/png:https://helpingourwomen.org/wp-content/uploads/2024/12/Walking-Group-Icons.png
END:VEVENT
END:VCALENDAR