BEGIN:VCALENDAR
VERSION:2.0
PRODID:-//Helping Our Women - ECPv6.15.16//NONSGML v1.0//EN
CALSCALE:GREGORIAN
METHOD:PUBLISH
X-WR-CALNAME:Helping Our Women
X-ORIGINAL-URL:https://helpingourwomen.org
X-WR-CALDESC:Events for Helping Our Women
REFRESH-INTERVAL;VALUE=DURATION:PT1H
X-Robots-Tag:noindex
X-PUBLISHED-TTL:PT1H
BEGIN:VTIMEZONE
TZID:America/New_York
BEGIN:DAYLIGHT
TZOFFSETFROM:-0500
TZOFFSETTO:-0400
TZNAME:EDT
DTSTART:20190310T070000
END:DAYLIGHT
BEGIN:STANDARD
TZOFFSETFROM:-0400
TZOFFSETTO:-0500
TZNAME:EST
DTSTART:20191103T060000
END:STANDARD
BEGIN:DAYLIGHT
TZOFFSETFROM:-0500
TZOFFSETTO:-0400
TZNAME:EDT
DTSTART:20200308T070000
END:DAYLIGHT
BEGIN:STANDARD
TZOFFSETFROM:-0400
TZOFFSETTO:-0500
TZNAME:EST
DTSTART:20201101T060000
END:STANDARD
BEGIN:DAYLIGHT
TZOFFSETFROM:-0500
TZOFFSETTO:-0400
TZNAME:EDT
DTSTART:20210314T070000
END:DAYLIGHT
BEGIN:STANDARD
TZOFFSETFROM:-0400
TZOFFSETTO:-0500
TZNAME:EST
DTSTART:20211107T060000
END:STANDARD
END:VTIMEZONE
BEGIN:VEVENT
DTSTART;TZID=America/New_York:20200330T130000
DTEND;TZID=America/New_York:20200330T150000
DTSTAMP:20260419T100857
CREATED:20200120T222249Z
LAST-MODIFIED:20200306T212047Z
UID:10000102-1585573200-1585580400@helpingourwomen.org
SUMMARY:Mindfulness Skills for Self-Care & Well-Being
DESCRIPTION:Registration for this program is now closed. \n 
URL:https://helpingourwomen.org/event/mindfulness-skills-for-self-care-well-being-2020-03-09/2020-03-30/
LOCATION:Chapel in The Pines\, 220 Samoset Road\, Eastham\, MA\, 02642\, United States
END:VEVENT
BEGIN:VEVENT
DTSTART;TZID=America/New_York:20200323T130000
DTEND;TZID=America/New_York:20200323T150000
DTSTAMP:20260419T100857
CREATED:20200120T222249Z
LAST-MODIFIED:20200306T212047Z
UID:10000101-1584968400-1584975600@helpingourwomen.org
SUMMARY:Mindfulness Skills for Self-Care & Well-Being
DESCRIPTION:Registration for this program is now closed. \n 
URL:https://helpingourwomen.org/event/mindfulness-skills-for-self-care-well-being-2020-03-09/2020-03-23/
LOCATION:Chapel in The Pines\, 220 Samoset Road\, Eastham\, MA\, 02642\, United States
END:VEVENT
BEGIN:VEVENT
DTSTART;TZID=America/New_York:20200316T130000
DTEND;TZID=America/New_York:20200316T150000
DTSTAMP:20260419T100857
CREATED:20200120T222249Z
LAST-MODIFIED:20200306T212047Z
UID:10000100-1584363600-1584370800@helpingourwomen.org
SUMMARY:Mindfulness Skills for Self-Care & Well-Being
DESCRIPTION:Registration for this program is now closed. \n 
URL:https://helpingourwomen.org/event/mindfulness-skills-for-self-care-well-being-2020-03-09/2020-03-16/
LOCATION:Chapel in The Pines\, 220 Samoset Road\, Eastham\, MA\, 02642\, United States
END:VEVENT
BEGIN:VEVENT
DTSTART;TZID=America/New_York:20200309T130000
DTEND;TZID=America/New_York:20200309T150000
DTSTAMP:20260419T100857
CREATED:20200120T222249Z
LAST-MODIFIED:20200306T212047Z
UID:10000099-1583758800-1583766000@helpingourwomen.org
SUMMARY:Mindfulness Skills for Self-Care & Well-Being
DESCRIPTION:Registration for this program is now closed. \n 
URL:https://helpingourwomen.org/event/mindfulness-skills-for-self-care-well-being-2020-03-09/2020-03-09/
LOCATION:Chapel in The Pines\, 220 Samoset Road\, Eastham\, MA\, 02642\, United States
END:VEVENT
BEGIN:VEVENT
DTSTART;TZID=America/New_York:20200309T130000
DTEND;TZID=America/New_York:20200309T150000
DTSTAMP:20260419T100857
CREATED:20200120T222248Z
LAST-MODIFIED:20200120T222248Z
UID:10000098-1583758800-1583766000@helpingourwomen.org
SUMMARY:Mindfulness Skills for Self-Care & Well-Being
DESCRIPTION:Join us for this 6-week training program!  Open to All. \nFree for HOW community members and only $90 for general public. \nRegister by clicking here \n 
URL:https://helpingourwomen.org/event/mindfulness-skills-for-self-care-well-being/2020-03-09/
LOCATION:Chapel in The Pines\, 220 Samoset Road\, Eastham\, MA\, 02642\, United States
END:VEVENT
BEGIN:VEVENT
DTSTART;TZID=America/New_York:20200302T130000
DTEND;TZID=America/New_York:20200302T150000
DTSTAMP:20260419T100857
CREATED:20200120T222248Z
LAST-MODIFIED:20200120T222248Z
UID:10000097-1583154000-1583161200@helpingourwomen.org
SUMMARY:Mindfulness Skills for Self-Care & Well-Being
DESCRIPTION:Join us for this 6-week training program!  Open to All. \nFree for HOW community members and only $90 for general public. \nRegister by clicking here \n 
URL:https://helpingourwomen.org/event/mindfulness-skills-for-self-care-well-being/2020-03-02/
LOCATION:Chapel in The Pines\, 220 Samoset Road\, Eastham\, MA\, 02642\, United States
END:VEVENT
BEGIN:VEVENT
DTSTART;TZID=America/New_York:20200224T130000
DTEND;TZID=America/New_York:20200224T150000
DTSTAMP:20260419T100857
CREATED:20200120T222248Z
LAST-MODIFIED:20200120T222248Z
UID:10000096-1582549200-1582556400@helpingourwomen.org
SUMMARY:Mindfulness Skills for Self-Care & Well-Being
DESCRIPTION:Join us for this 6-week training program!  Open to All. \nFree for HOW community members and only $90 for general public. \nRegister by clicking here \n 
URL:https://helpingourwomen.org/event/mindfulness-skills-for-self-care-well-being/2020-02-24/
LOCATION:Chapel in The Pines\, 220 Samoset Road\, Eastham\, MA\, 02642\, United States
END:VEVENT
BEGIN:VEVENT
DTSTART;TZID=America/New_York:20200203T130000
DTEND;TZID=America/New_York:20200203T140000
DTSTAMP:20260419T100857
CREATED:20200120T220240Z
LAST-MODIFIED:20200120T222551Z
UID:10000095-1580734800-1580738400@helpingourwomen.org
SUMMARY:Intro Session: Mindfulness Skills for Self-Care & Well-Being
DESCRIPTION:Join us for a FREE introduction to mindfulness practices and learn more about the upcoming 6-week program! \nCalmer Choice facilitators will lead this intro session and the mindfulness training program. \nDrop-ins welcome at the Feb 3 Intro Session. \nPlease register in advance for the 6-week program: Register by clicking here
URL:https://helpingourwomen.org/event/intro-session-mindfulness-skills-for-self-care-well-being/
LOCATION:Chapel in The Pines\, 220 Samoset Road\, Eastham\, MA\, 02642\, United States
END:VEVENT
END:VCALENDAR